BEGIN:VCALENDAR
VERSION:2.0
PRODID:-//Elka-Holzwerke | esb-Platten – die OSB Alternative | Spanplatten | Schnittholz - ECPv6.15.20//NONSGML v1.0//EN
CALSCALE:GREGORIAN
METHOD:PUBLISH
X-ORIGINAL-URL:https://www.elka-holzwerke.de
X-WR-CALDESC:Veranstaltungen für Elka-Holzwerke | esb-Platten – die OSB Alternative | Spanplatten | Schnittholz
REFRESH-INTERVAL;VALUE=DURATION:PT1H
X-Robots-Tag:noindex
X-PUBLISHED-TTL:PT1H
BEGIN:VTIMEZONE
TZID:Europe/Berlin
BEGIN:DAYLIGHT
TZOFFSETFROM:+0100
TZOFFSETTO:+0200
TZNAME:CEST
DTSTART:20250330T010000
END:DAYLIGHT
BEGIN:STANDARD
TZOFFSETFROM:+0200
TZOFFSETTO:+0100
TZNAME:CET
DTSTART:20251026T010000
END:STANDARD
BEGIN:DAYLIGHT
TZOFFSETFROM:+0100
TZOFFSETTO:+0200
TZNAME:CEST
DTSTART:20260329T010000
END:DAYLIGHT
BEGIN:STANDARD
TZOFFSETFROM:+0200
TZOFFSETTO:+0100
TZNAME:CET
DTSTART:20261025T010000
END:STANDARD
BEGIN:DAYLIGHT
TZOFFSETFROM:+0100
TZOFFSETTO:+0200
TZNAME:CEST
DTSTART:20270328T010000
END:DAYLIGHT
BEGIN:STANDARD
TZOFFSETFROM:+0200
TZOFFSETTO:+0100
TZNAME:CET
DTSTART:20271031T010000
END:STANDARD
END:VTIMEZONE
BEGIN:VEVENT
DTSTART;VALUE=DATE:20260225
DTEND;VALUE=DATE:20260228
DTSTAMP:20260425T030316
CREATED:20260106T152015Z
LAST-MODIFIED:20260129T074745Z
UID:10000007-1771977600-1772236799@www.elka-holzwerke.de
SUMMARY:Forum Holzbau Paris\, Frankreich
DESCRIPTION:Das Forum Holzbau Paris bringt internationale Holzbau-Expert:innen zusammen und zeigt\, wie moderner Ingenieurholzbau in Europa gedacht wird.
URL:https://www.elka-holzwerke.de/event/forum-holzbau-paris-frankreich/
LOCATION:Grand Palais Paris\, Grand Palais\, Paris\, France
ATTACH;FMTTYPE=image/png:https://www.elka-holzwerke.de/wp-content/uploads/2026/01/logo-hbf-paris.png
END:VEVENT
END:VCALENDAR