BEGIN:VCALENDAR
VERSION:2.0
PRODID:-//Elka-Holzwerke | esb-Platten – die OSB Alternative | Spanplatten | Schnittholz - ECPv6.15.20//NONSGML v1.0//EN
CALSCALE:GREGORIAN
METHOD:PUBLISH
X-ORIGINAL-URL:https://www.elka-holzwerke.de
X-WR-CALDESC:Veranstaltungen für Elka-Holzwerke | esb-Platten – die OSB Alternative | Spanplatten | Schnittholz
REFRESH-INTERVAL;VALUE=DURATION:PT1H
X-Robots-Tag:noindex
X-PUBLISHED-TTL:PT1H
BEGIN:VTIMEZONE
TZID:Europe/Berlin
BEGIN:DAYLIGHT
TZOFFSETFROM:+0100
TZOFFSETTO:+0200
TZNAME:CEST
DTSTART:20250330T010000
END:DAYLIGHT
BEGIN:STANDARD
TZOFFSETFROM:+0200
TZOFFSETTO:+0100
TZNAME:CET
DTSTART:20251026T010000
END:STANDARD
BEGIN:DAYLIGHT
TZOFFSETFROM:+0100
TZOFFSETTO:+0200
TZNAME:CEST
DTSTART:20260329T010000
END:DAYLIGHT
BEGIN:STANDARD
TZOFFSETFROM:+0200
TZOFFSETTO:+0100
TZNAME:CET
DTSTART:20261025T010000
END:STANDARD
BEGIN:DAYLIGHT
TZOFFSETFROM:+0100
TZOFFSETTO:+0200
TZNAME:CEST
DTSTART:20270328T010000
END:DAYLIGHT
BEGIN:STANDARD
TZOFFSETFROM:+0200
TZOFFSETTO:+0100
TZNAME:CET
DTSTART:20271031T010000
END:STANDARD
END:VTIMEZONE
BEGIN:VEVENT
DTSTART;VALUE=DATE:20260120
DTEND;VALUE=DATE:20260122
DTSTAMP:20260425T055627
CREATED:20260106T145408Z
LAST-MODIFIED:20260106T145744Z
UID:10000005-1768867200-1769039999@www.elka-holzwerke.de
SUMMARY:Bouwcenter Expo 2026
DESCRIPTION:Die Bouwcenter Expo ist der zentrale Treffpunkt für den niederländischen Holz- und Baustoffhandel und bietet eine kompakte\, praxisorientierte Plattform für Austausch\, Neuheiten und persönliche Gespräche.\nBesuchen Sie unseren Partnerstand zusammen mit ProClima\, Gutex und ClayTec
URL:https://www.elka-holzwerke.de/event/bouwcenter-expo-2026/
LOCATION:Werkspoorkathedraal\, Tractieweg 41\, Utrecht\, 3534 AP\, Netherlands
END:VEVENT
END:VCALENDAR