BEGIN:VCALENDAR
VERSION:2.0
PRODID:-//Elka-Holzwerke | esb-Platten – die OSB Alternative | Spanplatten | Schnittholz - ECPv6.15.20//NONSGML v1.0//EN
CALSCALE:GREGORIAN
METHOD:PUBLISH
X-WR-CALNAME:Elka-Holzwerke | esb-Platten – die OSB Alternative | Spanplatten | Schnittholz
X-ORIGINAL-URL:https://www.elka-holzwerke.de/fr/
X-WR-CALDESC:Évènements pour Elka-Holzwerke | esb-Platten – die OSB Alternative | Spanplatten | Schnittholz
REFRESH-INTERVAL;VALUE=DURATION:PT1H
X-Robots-Tag:noindex
X-PUBLISHED-TTL:PT1H
BEGIN:VTIMEZONE
TZID:Europe/Berlin
BEGIN:DAYLIGHT
TZOFFSETFROM:+0100
TZOFFSETTO:+0200
TZNAME:CEST
DTSTART:20250330T010000
END:DAYLIGHT
BEGIN:STANDARD
TZOFFSETFROM:+0200
TZOFFSETTO:+0100
TZNAME:CET
DTSTART:20251026T010000
END:STANDARD
BEGIN:DAYLIGHT
TZOFFSETFROM:+0100
TZOFFSETTO:+0200
TZNAME:CEST
DTSTART:20260329T010000
END:DAYLIGHT
BEGIN:STANDARD
TZOFFSETFROM:+0200
TZOFFSETTO:+0100
TZNAME:CET
DTSTART:20261025T010000
END:STANDARD
BEGIN:DAYLIGHT
TZOFFSETFROM:+0100
TZOFFSETTO:+0200
TZNAME:CEST
DTSTART:20270328T010000
END:DAYLIGHT
BEGIN:STANDARD
TZOFFSETFROM:+0200
TZOFFSETTO:+0100
TZNAME:CET
DTSTART:20271031T010000
END:STANDARD
BEGIN:DAYLIGHT
TZOFFSETFROM:+0100
TZOFFSETTO:+0200
TZNAME:CEST
DTSTART:20280326T010000
END:DAYLIGHT
BEGIN:STANDARD
TZOFFSETFROM:+0200
TZOFFSETTO:+0100
TZNAME:CET
DTSTART:20281029T010000
END:STANDARD
END:VTIMEZONE
BEGIN:VEVENT
DTSTART;VALUE=DATE:20260602
DTEND;VALUE=DATE:20260605
DTSTAMP:20260425T054104
CREATED:20260106T152840Z
LAST-MODIFIED:20260106T152840Z
UID:10000012-1780358400-1780617599@www.elka-holzwerke.de
SUMMARY:Carrefour international du bois Nantes\, France
DESCRIPTION:Le Carrefour du Bois est la plate-forme européenne centrale pour les produits dérivés du bois\, le commerce du bois et les produits de construction durables\, avec une forte orientation internationale.
URL:https://www.elka-holzwerke.de/fr/event/carrefour-international-du-bois-nantes-france/
LOCATION:Beaujoire Exhibition Centre\, Nantes\, route de saint-joseph de porterie\, Nantes\, 44300\, France
ATTACH;FMTTYPE=image/png:https://www.elka-holzwerke.de/wp-content/uploads/2026/01/Logo-CIB26.png
END:VEVENT
BEGIN:VEVENT
DTSTART;VALUE=DATE:20261007
DTEND;VALUE=DATE:20261009
DTSTAMP:20260425T054104
CREATED:20260106T155855Z
LAST-MODIFIED:20260106T155855Z
UID:10000015-1791331200-1791503999@www.elka-holzwerke.de
SUMMARY:Forum Holzbau Cologne
DESCRIPTION:Le Forum Holzbau de Cologne met l’accent sur la recherche actuelle\, les exemples pratiques et les thèmes d’avenir de la construction en bois dans le cadre d’un échange direct.
URL:https://www.elka-holzwerke.de/fr/event/forum-holzbau-cologne/
LOCATION:Gürzenich\, Köln\, Gürzenich\, Köln\, Germany
ATTACH;FMTTYPE=image/png:https://www.elka-holzwerke.de/wp-content/uploads/2026/01/hbf-Koeln.png
END:VEVENT
BEGIN:VEVENT
DTSTART;VALUE=DATE:20261202
DTEND;VALUE=DATE:20261205
DTSTAMP:20260425T054104
CREATED:20260106T160214Z
LAST-MODIFIED:20260106T160214Z
UID:10000018-1796169600-1796428799@www.elka-holzwerke.de
SUMMARY:Forum Holzbau Innsbruck\, Autriche
DESCRIPTION:Le Forum Holzbau Innsbruck est considéré comme l’un des congrès sur la construction en bois les plus renommés d’Europe et constitue depuis des années une référence en matière de construction en bois à plusieurs étages.
URL:https://www.elka-holzwerke.de/fr/event/forum-holzbau-innsbruck-autriche/
LOCATION:Kongresszentrum Innsbruck\, Rennweg 3\, Innsbruck\, 6020\, Austria
ATTACH;FMTTYPE=image/png:https://www.elka-holzwerke.de/wp-content/uploads/2026/01/12_HBF_Innsbruck_Logo.png
END:VEVENT
BEGIN:VEVENT
DTSTART;VALUE=DATE:20270111
DTEND;VALUE=DATE:20270116
DTSTAMP:20260425T054104
CREATED:20260106T160603Z
LAST-MODIFIED:20260106T160603Z
UID:10000021-1799625600-1800057599@www.elka-holzwerke.de
SUMMARY:BAU Munich
DESCRIPTION:BAU Munich est le salon leader mondial de l’architecture\, des matériaux et des systèmes et montre dans quelle direction la construction durable évolue au niveau international.
URL:https://www.elka-holzwerke.de/fr/event/bau-munich/
LOCATION:Messe München\, Am Messeturm\, München\, 81829\, Germany
ATTACH;FMTTYPE=image/png:https://www.elka-holzwerke.de/wp-content/uploads/2026/01/Logo_BAU.png
END:VEVENT
END:VCALENDAR