BEGIN:VCALENDAR
VERSION:2.0
PRODID:-//Elka-Holzwerke | esb-Platten – die OSB Alternative | Spanplatten | Schnittholz - ECPv6.15.20//NONSGML v1.0//EN
CALSCALE:GREGORIAN
METHOD:PUBLISH
X-ORIGINAL-URL:https://www.elka-holzwerke.de/nl/
X-WR-CALDESC:Evenementen voor Elka-Holzwerke | esb-Platten – die OSB Alternative | Spanplatten | Schnittholz
REFRESH-INTERVAL;VALUE=DURATION:PT1H
X-Robots-Tag:noindex
X-PUBLISHED-TTL:PT1H
BEGIN:VTIMEZONE
TZID:Europe/Berlin
BEGIN:DAYLIGHT
TZOFFSETFROM:+0100
TZOFFSETTO:+0200
TZNAME:CEST
DTSTART:20250330T010000
END:DAYLIGHT
BEGIN:STANDARD
TZOFFSETFROM:+0200
TZOFFSETTO:+0100
TZNAME:CET
DTSTART:20251026T010000
END:STANDARD
BEGIN:DAYLIGHT
TZOFFSETFROM:+0100
TZOFFSETTO:+0200
TZNAME:CEST
DTSTART:20260329T010000
END:DAYLIGHT
BEGIN:STANDARD
TZOFFSETFROM:+0200
TZOFFSETTO:+0100
TZNAME:CET
DTSTART:20261025T010000
END:STANDARD
BEGIN:DAYLIGHT
TZOFFSETFROM:+0100
TZOFFSETTO:+0200
TZNAME:CEST
DTSTART:20270328T010000
END:DAYLIGHT
BEGIN:STANDARD
TZOFFSETFROM:+0200
TZOFFSETTO:+0100
TZNAME:CET
DTSTART:20271031T010000
END:STANDARD
BEGIN:DAYLIGHT
TZOFFSETFROM:+0100
TZOFFSETTO:+0200
TZNAME:CEST
DTSTART:20280326T010000
END:DAYLIGHT
BEGIN:STANDARD
TZOFFSETFROM:+0200
TZOFFSETTO:+0100
TZNAME:CET
DTSTART:20281029T010000
END:STANDARD
END:VTIMEZONE
BEGIN:VEVENT
DTSTART;VALUE=DATE:20260602
DTEND;VALUE=DATE:20260605
DTSTAMP:20260425T054221
CREATED:20260106T152840Z
LAST-MODIFIED:20260106T152840Z
UID:10000014-1780358400-1780617599@www.elka-holzwerke.de
SUMMARY:Carrefour international du bois Nantes\, Frankrijk
DESCRIPTION:Carrefour du Bois is het centrale Europese platform voor materialen op houtbasis\, houthandel en duurzame bouwproducten met een sterke internationale focus.
URL:https://www.elka-holzwerke.de/nl/event/carrefour-international-du-bois-nantes-frankrijk/
LOCATION:Beaujoire Exhibition Centre\, Nantes\, route de saint-joseph de porterie\, Nantes\, 44300\, France
ATTACH;FMTTYPE=image/png:https://www.elka-holzwerke.de/wp-content/uploads/2026/01/Logo-CIB26.png
END:VEVENT
BEGIN:VEVENT
DTSTART;VALUE=DATE:20261007
DTEND;VALUE=DATE:20261009
DTSTAMP:20260425T054221
CREATED:20260106T155855Z
LAST-MODIFIED:20260106T155855Z
UID:10000017-1791331200-1791503999@www.elka-holzwerke.de
SUMMARY:Forum Houtbouw Keulen
DESCRIPTION:Het Forum Holzbau Köln richt zich op actueel onderzoek\, praktijkvoorbeelden en toekomstige onderwerpen van houtbouw in een directe uitwisseling.
URL:https://www.elka-holzwerke.de/nl/event/forum-houtbouw-keulen/
LOCATION:Gürzenich\, Köln\, Gürzenich\, Köln\, Germany
ATTACH;FMTTYPE=image/png:https://www.elka-holzwerke.de/wp-content/uploads/2026/01/hbf-Koeln.png
END:VEVENT
BEGIN:VEVENT
DTSTART;VALUE=DATE:20261202
DTEND;VALUE=DATE:20261205
DTSTAMP:20260425T054221
CREATED:20260106T160214Z
LAST-MODIFIED:20260106T160214Z
UID:10000020-1796169600-1796428799@www.elka-holzwerke.de
SUMMARY:Forum Holzbau Innsbruck\, Oostenrijk
DESCRIPTION:Het Forum Holzbau Innsbruck is een van de meest gerenommeerde houtbouwcongressen in Europa en zet al jaren de standaard in houtbouw met meerdere verdiepingen.
URL:https://www.elka-holzwerke.de/nl/event/forum-holzbau-innsbruck-oostenrijk/
LOCATION:Kongresszentrum Innsbruck\, Rennweg 3\, Innsbruck\, 6020\, Austria
ATTACH;FMTTYPE=image/png:https://www.elka-holzwerke.de/wp-content/uploads/2026/01/12_HBF_Innsbruck_Logo.png
END:VEVENT
BEGIN:VEVENT
DTSTART;VALUE=DATE:20270111
DTEND;VALUE=DATE:20270116
DTSTAMP:20260425T054221
CREATED:20260106T160603Z
LAST-MODIFIED:20260106T160603Z
UID:10000023-1799625600-1800057599@www.elka-holzwerke.de
SUMMARY:BAU München
DESCRIPTION:BAU München is ’s werelds toonaangevende beurs voor architectuur\, materialen en systemen en laat zien waar duurzame bouw internationaal naartoe gaat.
URL:https://www.elka-holzwerke.de/nl/event/bau-muenchen/
LOCATION:Messe München\, Am Messeturm\, München\, 81829\, Germany
ATTACH;FMTTYPE=image/png:https://www.elka-holzwerke.de/wp-content/uploads/2026/01/Logo_BAU.png
END:VEVENT
END:VCALENDAR